BEGIN:VCALENDAR
PRODID:-//eluceo/ical//2.0/EN
VERSION:2.0
CALSCALE:GREGORIAN
BEGIN:VEVENT
UID:1235cbcdb21d91aab630177911c73ef8
DTSTAMP:20260423T172909Z
SUMMARY:TS  Adult B'nai Mitzvah class
DESCRIPTION:Jewish Federation of Greater Naples\nCommunity Calendar\nhttps:
 //jewishnaples.org/calendar/calendar16709\n\nTS  Adult B'nai Mitzvah class
DTSTART;TZID=America/New_York:20151216T183000
DTEND;TZID=America/New_York:20151216T183000
END:VEVENT
END:VCALENDAR
