BEGIN:VCALENDAR
PRODID:-//eluceo/ical//2.0/EN
VERSION:2.0
CALSCALE:GREGORIAN
BEGIN:VEVENT
UID:5244f4aba7d955e238388007d4095663
DTSTAMP:20260423T105202Z
SUMMARY:BT  Lecture by Lee Spielman
DESCRIPTION:Jewish Federation of Greater Naples\nCommunity Calendar\nhttps:
 //jewishnaples.org/calendar/calendar16703\n\nBT  Lecture by Lee Spielman
DTSTART;TZID=America/New_York:20151215T193000
DTEND;TZID=America/New_York:20151215T193000
END:VEVENT
END:VCALENDAR
