BEGIN:VCALENDAR
PRODID:-//eluceo/ical//2.0/EN
VERSION:2.0
CALSCALE:GREGORIAN
BEGIN:VEVENT
UID:6e9014460b65e2fa4bf42915f3541858
DTSTAMP:20260422T202102Z
SUMMARY:TS  Executive Committee Meeting
DESCRIPTION:Jewish Federation of Greater Naples\nCommunity Calendar\nhttps:
 //jewishnaples.org/calendar/calendar16702\n\nTS  Executive Committee Meeti
 ng
DTSTART;TZID=America/New_York:20151215T190000
DTEND;TZID=America/New_York:20151215T190000
END:VEVENT
END:VCALENDAR
