BEGIN:VCALENDAR
PRODID:-//eluceo/ical//2.0/EN
VERSION:2.0
CALSCALE:GREGORIAN
BEGIN:VEVENT
UID:0589e692f4259e7fa22160b716b9a90e
DTSTAMP:20260423T180300Z
SUMMARY:JCMI   Duplicate Bridge
DESCRIPTION:Jewish Federation of Greater Naples\nCommunity Calendar\nhttps:
 //jewishnaples.org/calendar/calendar16700\n\nJCMI   Duplicate Bridge
DTSTART;TZID=America/New_York:20151215T130000
DTEND;TZID=America/New_York:20151215T130000
END:VEVENT
END:VCALENDAR
