BEGIN:VCALENDAR
PRODID:-//eluceo/ical//2.0/EN
VERSION:2.0
CALSCALE:GREGORIAN
BEGIN:VEVENT
UID:be7bb71aa321389e30e8ccd96e2a6791
DTSTAMP:20260423T061645Z
SUMMARY:TS - Yiddish Club Meeting
DESCRIPTION:Jewish Federation of Greater Naples\nCommunity Calendar\nhttps:
 //jewishnaples.org/calendar/calendar16697\n\nTS - Yiddish Club Meeting
DTSTART;TZID=America/New_York:20151215T100000
DTEND;TZID=America/New_York:20151215T100000
END:VEVENT
END:VCALENDAR
