BEGIN:VCALENDAR
PRODID:-//eluceo/ical//2.0/EN
VERSION:2.0
CALSCALE:GREGORIAN
BEGIN:VEVENT
UID:c01dc6c6efccbc05296c0cdfdca1e726
DTSTAMP:20260423T031208Z
SUMMARY:JCMI  Bingo
DESCRIPTION:Jewish Federation of Greater Naples\nCommunity Calendar\nhttps:
 //jewishnaples.org/calendar/calendar16696\n\nJCMI  Bingo
DTSTART;TZID=America/New_York:20151214T173000
DTEND;TZID=America/New_York:20151214T173000
END:VEVENT
END:VCALENDAR
