BEGIN:VCALENDAR
PRODID:-//eluceo/ical//2.0/EN
VERSION:2.0
CALSCALE:GREGORIAN
BEGIN:VEVENT
UID:7d68ead761111de3e1c009029e8d7dd6
DTSTAMP:20260420T004412Z
SUMMARY:TS  Religious School Operation Nachas
DESCRIPTION:Jewish Federation of Greater Naples\nCommunity Calendar\nhttps:
 //jewishnaples.org/calendar/calendar16689\n\nTS  Religious School Operatio
 n Nachas
DTSTART;TZID=America/New_York:20151213T093000
DTEND;TZID=America/New_York:20151213T093000
END:VEVENT
END:VCALENDAR
