BEGIN:VCALENDAR
PRODID:-//eluceo/ical//2.0/EN
VERSION:2.0
CALSCALE:GREGORIAN
BEGIN:VEVENT
UID:dc6b3623ff6b2ff9e1cb95c9972ec927
DTSTAMP:20260423T054300Z
SUMMARY:CHA  Services
DESCRIPTION:Jewish Federation of Greater Naples\nCommunity Calendar\nhttps:
 //jewishnaples.org/calendar/calendar16684\n\nCHA  Services
DTSTART;TZID=America/New_York:20151212T100000
DTEND;TZID=America/New_York:20151212T100000
END:VEVENT
END:VCALENDAR
