BEGIN:VCALENDAR
PRODID:-//eluceo/ical//2.0/EN
VERSION:2.0
CALSCALE:GREGORIAN
BEGIN:VEVENT
UID:22ace6974505247b6289f2064a073fe2
DTSTAMP:20260423T064631Z
SUMMARY:JCMI  Services
DESCRIPTION:Jewish Federation of Greater Naples\nCommunity Calendar\nhttps:
 //jewishnaples.org/calendar/calendar16681\n\nJCMI  Services
DTSTART;TZID=America/New_York:20151211T200000
DTEND;TZID=America/New_York:20151211T200000
END:VEVENT
END:VCALENDAR
