BEGIN:VCALENDAR
PRODID:-//eluceo/ical//2.0/EN
VERSION:2.0
CALSCALE:GREGORIAN
BEGIN:VEVENT
UID:85d8467ffcdda71716fa500e71c965fb
DTSTAMP:20260422T182300Z
SUMMARY:TS Services
DESCRIPTION:Jewish Federation of Greater Naples\nCommunity Calendar\nhttps:
 //jewishnaples.org/calendar/calendar16680\n\nTS Services
DTSTART;TZID=America/New_York:20151211T193000
DTEND;TZID=America/New_York:20151211T193000
END:VEVENT
END:VCALENDAR
