BEGIN:VCALENDAR
PRODID:-//eluceo/ical//2.0/EN
VERSION:2.0
CALSCALE:GREGORIAN
BEGIN:VEVENT
UID:3a24b528ad15e711a8545715fe120f96
DTSTAMP:20260423T111454Z
SUMMARY:NJC Services
DESCRIPTION:Jewish Federation of Greater Naples\nCommunity Calendar\nhttps:
 //jewishnaples.org/calendar/calendar16679\n\nNJC Services
DTSTART;TZID=America/New_York:20151211T193000
DTEND;TZID=America/New_York:20151211T200000
END:VEVENT
END:VCALENDAR
