BEGIN:VCALENDAR
PRODID:-//eluceo/ical//2.0/EN
VERSION:2.0
CALSCALE:GREGORIAN
BEGIN:VEVENT
UID:6ee51bb8983c0aa78628644f0115d8ae
DTSTAMP:20260422T102734Z
SUMMARY:TS  Preshool Chanukah show
DESCRIPTION:Jewish Federation of Greater Naples\nCommunity Calendar\nhttps:
 //jewishnaples.org/calendar/calendar16676\n\nTS  Preshool Chanukah show
DTSTART;TZID=America/New_York:20151211T103000
DTEND;TZID=America/New_York:20151211T103000
END:VEVENT
END:VCALENDAR
