BEGIN:VCALENDAR
PRODID:-//eluceo/ical//2.0/EN
VERSION:2.0
CALSCALE:GREGORIAN
BEGIN:VEVENT
UID:0d61d40d0f3ba98c5bcd07f977d22d1b
DTSTAMP:20260421T230605Z
SUMMARY:HDH Evening Activity Group
DESCRIPTION:Jewish Federation of Greater Naples\nCommunity Calendar\nhttps:
 //jewishnaples.org/calendar/calendar16674\n\nHDH Evening Activity Group
DTSTART;TZID=America/New_York:20151210T183000
DTEND;TZID=America/New_York:20151210T183000
END:VEVENT
END:VCALENDAR
