BEGIN:VCALENDAR
PRODID:-//eluceo/ical//2.0/EN
VERSION:2.0
CALSCALE:GREGORIAN
BEGIN:VEVENT
UID:7940e503b1e7d82f36efa3331ccde109
DTSTAMP:20260424T071540Z
SUMMARY:HM Executive Committee Meeting
DESCRIPTION:Jewish Federation of Greater Naples\nCommunity Calendar\nhttps:
 //jewishnaples.org/calendar/calendar16671\n\nHM Executive Committee Meetin
 g
DTSTART;TZID=America/New_York:20151210T150000
DTEND;TZID=America/New_York:20151210T150000
END:VEVENT
END:VCALENDAR
