BEGIN:VCALENDAR
PRODID:-//eluceo/ical//2.0/EN
VERSION:2.0
CALSCALE:GREGORIAN
BEGIN:VEVENT
UID:91f9b3bb44c317013fc788ac6d950f85
DTSTAMP:20260422T164305Z
SUMMARY:NJC Board Meeting
DESCRIPTION:Jewish Federation of Greater Naples\nCommunity Calendar\nhttps:
 //jewishnaples.org/calendar/calendar16670\n\nNJC Board Meeting
DTSTART;TZID=America/New_York:20151210T140000
DTEND;TZID=America/New_York:20151210T140000
END:VEVENT
END:VCALENDAR
