BEGIN:VCALENDAR
PRODID:-//eluceo/ical//2.0/EN
VERSION:2.0
CALSCALE:GREGORIAN
BEGIN:VEVENT
UID:a92d64f121b1b4ecc3f4c3bb36f95652
DTSTAMP:20260422T015610Z
SUMMARY:JCMI  Mah Jongg
DESCRIPTION:Jewish Federation of Greater Naples\nCommunity Calendar\nhttps:
 //jewishnaples.org/calendar/calendar16667\n\nJCMI  Mah Jongg
DTSTART;TZID=America/New_York:20151210T110000
DTEND;TZID=America/New_York:20151210T110000
END:VEVENT
END:VCALENDAR
