BEGIN:VCALENDAR
PRODID:-//eluceo/ical//2.0/EN
VERSION:2.0
CALSCALE:GREGORIAN
BEGIN:VEVENT
UID:f33aa12808a66d56850c2fb6864b499f
DTSTAMP:20260421T205203Z
SUMMARY:HM Annual Ladies Luncheon
DESCRIPTION:Jewish Federation of Greater Naples\nCommunity Calendar\nhttps:
 //jewishnaples.org/calendar/calendar16666\n\nHM Annual Ladies Luncheon
DTSTART;TZID=America/New_York:20151210T110000
DTEND;TZID=America/New_York:20151210T113000
END:VEVENT
END:VCALENDAR
