BEGIN:VCALENDAR
PRODID:-//eluceo/ical//2.0/EN
VERSION:2.0
CALSCALE:GREGORIAN
BEGIN:VEVENT
UID:6dd9252010ce8e1d45cbfbb0b5425eb3
DTSTAMP:20260424T090214Z
SUMMARY:TS  Adult B'nai Mitzvah class
DESCRIPTION:Jewish Federation of Greater Naples\nCommunity Calendar\nhttps:
 //jewishnaples.org/calendar/calendar16664\n\nTS  Adult B'nai Mitzvah class
DTSTART;TZID=America/New_York:20151209T183000
DTEND;TZID=America/New_York:20151209T183000
END:VEVENT
END:VCALENDAR
