BEGIN:VCALENDAR
PRODID:-//eluceo/ical//2.0/EN
VERSION:2.0
CALSCALE:GREGORIAN
BEGIN:VEVENT
UID:dfb0196f96186610c50a1df31a6aaf4e
DTSTAMP:20260422T053838Z
SUMMARY:WCA - TS  Canasta
DESCRIPTION:Jewish Federation of Greater Naples\nCommunity Calendar\nhttps:
 //jewishnaples.org/calendar/calendar16659\n\nWCA - TS  Canasta
DTSTART;TZID=America/New_York:20151209T130000
DTEND;TZID=America/New_York:20151209T130000
END:VEVENT
END:VCALENDAR
