BEGIN:VCALENDAR
PRODID:-//eluceo/ical//2.0/EN
VERSION:2.0
CALSCALE:GREGORIAN
BEGIN:VEVENT
UID:f7b19030e2968c16e49008a4a44545f5
DTSTAMP:20260423T125352Z
SUMMARY:TS  Women's Chanukah Tea
DESCRIPTION:Jewish Federation of Greater Naples\nCommunity Calendar\nhttps:
 //jewishnaples.org/calendar/calendar16658\n\nTS  Women's Chanukah Tea
DTSTART;TZID=America/New_York:20151209T130000
DTEND;TZID=America/New_York:20151209T130000
END:VEVENT
END:VCALENDAR
