BEGIN:VCALENDAR
PRODID:-//eluceo/ical//2.0/EN
VERSION:2.0
CALSCALE:GREGORIAN
BEGIN:VEVENT
UID:abdd343de211f0be280d5b3a614b5cf0
DTSTAMP:20260422T190415Z
SUMMARY:JFCC Board Meeting
DESCRIPTION:Jewish Federation of Greater Naples\nCommunity Calendar\nhttps:
 //jewishnaples.org/calendar/calendar16655\n\nJFCC Board Meeting
DTSTART;TZID=America/New_York:20151208T193000
DTEND;TZID=America/New_York:20151208T193000
END:VEVENT
END:VCALENDAR
