BEGIN:VCALENDAR
PRODID:-//eluceo/ical//2.0/EN
VERSION:2.0
CALSCALE:GREGORIAN
BEGIN:VEVENT
UID:5f7deb1d5fafaa4c5a44cb04a0b38872
DTSTAMP:20260422T043940Z
SUMMARY:HJH Chanukah Party
DESCRIPTION:Jewish Federation of Greater Naples\nCommunity Calendar\nhttps:
 //jewishnaples.org/calendar/calendar16654\n\nHJH Chanukah Party
DTSTART;TZID=America/New_York:20151208T160000
DTEND;TZID=America/New_York:20151208T160000
END:VEVENT
END:VCALENDAR
