BEGIN:VCALENDAR
PRODID:-//eluceo/ical//2.0/EN
VERSION:2.0
CALSCALE:GREGORIAN
BEGIN:VEVENT
UID:1b9f4659417eb0f95001b92dc0e3ff55
DTSTAMP:20260419T220526Z
SUMMARY:BT  Rabbi's Study Course
DESCRIPTION:Jewish Federation of Greater Naples\nCommunity Calendar\nhttps:
 //jewishnaples.org/calendar/calendar16653\n\nBT  Rabbi's Study Course
DTSTART;TZID=America/New_York:20151208T160000
DTEND;TZID=America/New_York:20151208T160000
END:VEVENT
END:VCALENDAR
