BEGIN:VCALENDAR
PRODID:-//eluceo/ical//2.0/EN
VERSION:2.0
CALSCALE:GREGORIAN
BEGIN:VEVENT
UID:55ba4bd5d01480b59693583cc63698d6
DTSTAMP:20260420T071833Z
SUMMARY:JCMI   Duplicate Bridge
DESCRIPTION:Jewish Federation of Greater Naples\nCommunity Calendar\nhttps:
 //jewishnaples.org/calendar/calendar16652\n\nJCMI   Duplicate Bridge
DTSTART;TZID=America/New_York:20151208T130000
DTEND;TZID=America/New_York:20151208T130000
END:VEVENT
END:VCALENDAR
