BEGIN:VCALENDAR
PRODID:-//eluceo/ical//2.0/EN
VERSION:2.0
CALSCALE:GREGORIAN
BEGIN:VEVENT
UID:da3adcd651f6ac0662979daf27809e52
DTSTAMP:20260421T234201Z
SUMMARY:TS  Sisterhood Luncheon
DESCRIPTION:Jewish Federation of Greater Naples\nCommunity Calendar\nhttps:
 //jewishnaples.org/calendar/calendar16650\n\nTS  Sisterhood Luncheon
DTSTART;TZID=America/New_York:20151208T113000
DTEND;TZID=America/New_York:20151208T113000
END:VEVENT
END:VCALENDAR
