BEGIN:VCALENDAR
PRODID:-//eluceo/ical//2.0/EN
VERSION:2.0
CALSCALE:GREGORIAN
BEGIN:VEVENT
UID:225363d2b204c985b0811573c9be6d90
DTSTAMP:20260422T194150Z
SUMMARY:JFCC Community Chanukah Celebration at Mercado Naples
DESCRIPTION:Jewish Federation of Greater Naples\nCommunity Calendar\nhttps:
 //jewishnaples.org/calendar/calendar16646\n\nJFCC Community Chanukah Celeb
 ration at Mercado Naples
DTSTART;TZID=America/New_York:20151207T163000
DTEND;TZID=America/New_York:20151207T163000
END:VEVENT
END:VCALENDAR
