BEGIN:VCALENDAR
PRODID:-//eluceo/ical//2.0/EN
VERSION:2.0
CALSCALE:GREGORIAN
BEGIN:VEVENT
UID:f4722055da5c23b8cf5e8c8864301777
DTSTAMP:20260422T172138Z
SUMMARY:BT   Latke Dinner
DESCRIPTION:Jewish Federation of Greater Naples\nCommunity Calendar\nhttps:
 //jewishnaples.org/calendar/calendar16642\n\nBT   Latke Dinner
DTSTART;TZID=America/New_York:20151206T180000
DTEND;TZID=America/New_York:20151206T180000
END:VEVENT
END:VCALENDAR
