BEGIN:VCALENDAR
PRODID:-//eluceo/ical//2.0/EN
VERSION:2.0
CALSCALE:GREGORIAN
BEGIN:VEVENT
UID:29928ea94881861638fd1cb782132019
DTSTAMP:20260423T201447Z
SUMMARY:TS  Religious School Chanukah Program
DESCRIPTION:Jewish Federation of Greater Naples\nCommunity Calendar\nhttps:
 //jewishnaples.org/calendar/calendar16638\n\nTS  Religious School Chanukah
  Program
DTSTART;TZID=America/New_York:20151206T100000
DTEND;TZID=America/New_York:20151206T100000
END:VEVENT
END:VCALENDAR
