BEGIN:VCALENDAR
PRODID:-//eluceo/ical//2.0/EN
VERSION:2.0
CALSCALE:GREGORIAN
BEGIN:VEVENT
UID:8b14a0ef8c20a166259b2309500e0f48
DTSTAMP:20260419T210356Z
SUMMARY:TS Sunday School
DESCRIPTION:Jewish Federation of Greater Naples\nCommunity Calendar\nhttps:
 //jewishnaples.org/calendar/calendar16637\n\nTS Sunday School
DTSTART;TZID=America/New_York:20151206T093000
DTEND;TZID=America/New_York:20151206T093000
END:VEVENT
END:VCALENDAR
