BEGIN:VCALENDAR
PRODID:-//eluceo/ical//2.0/EN
VERSION:2.0
CALSCALE:GREGORIAN
BEGIN:VEVENT
UID:fdb5af6e557e3dda9f793b410aa8269f
DTSTAMP:20260423T181039Z
SUMMARY:BT  Sunday School
DESCRIPTION:Jewish Federation of Greater Naples\nCommunity Calendar\nhttps:
 //jewishnaples.org/calendar/calendar16635\n\nBT  Sunday School
DTSTART;TZID=America/New_York:20151206T090000
DTEND;TZID=America/New_York:20151206T090000
END:VEVENT
END:VCALENDAR
