BEGIN:VCALENDAR
PRODID:-//eluceo/ical//2.0/EN
VERSION:2.0
CALSCALE:GREGORIAN
BEGIN:VEVENT
UID:99aafed10247acd42853a63b1123d486
DTSTAMP:20260423T095220Z
SUMMARY:Erev Hanukkah
DESCRIPTION:Jewish Federation of Greater Naples\nCommunity Calendar\nhttps:
 //jewishnaples.org/calendar/calendar16634\n\nErev Hanukkah
DTSTART;TZID=America/New_York:20151206T000000
DTEND;TZID=America/New_York:20151207T000000
END:VEVENT
END:VCALENDAR
