BEGIN:VCALENDAR
PRODID:-//eluceo/ical//2.0/EN
VERSION:2.0
CALSCALE:GREGORIAN
BEGIN:VEVENT
UID:3eaff3ddbc30b1e0178ae355d1fb116d
DTSTAMP:20260422T214654Z
SUMMARY:BBYO Sababa BBG Sisterhood Sleepover
DESCRIPTION:Jewish Federation of Greater Naples\nCommunity Calendar\nhttps:
 //jewishnaples.org/calendar/calendar16633\n\nBBYO Sababa BBG Sisterhood Sl
 eepover
DTSTART;TZID=America/New_York:20151205T190000
DTEND;TZID=America/New_York:20151205T190000
END:VEVENT
END:VCALENDAR
