BEGIN:VCALENDAR
PRODID:-//eluceo/ical//2.0/EN
VERSION:2.0
CALSCALE:GREGORIAN
BEGIN:VEVENT
UID:2add23e22725f0f91b10ca0d69441868
DTSTAMP:20260423T165258Z
SUMMARY:BT Services
DESCRIPTION:Jewish Federation of Greater Naples\nCommunity Calendar\nhttps:
 //jewishnaples.org/calendar/calendar16629\n\nBT Services
DTSTART;TZID=America/New_York:20151205T093000
DTEND;TZID=America/New_York:20151205T093000
END:VEVENT
END:VCALENDAR
