BEGIN:VCALENDAR
PRODID:-//eluceo/ical//2.0/EN
VERSION:2.0
CALSCALE:GREGORIAN
BEGIN:VEVENT
UID:0a550c3e462d93ef447f866deceb2734
DTSTAMP:20260422T221328Z
SUMMARY:TS Table Shabbat
DESCRIPTION:Jewish Federation of Greater Naples\nCommunity Calendar\nhttps:
 //jewishnaples.org/calendar/calendar16622\n\nTS Table Shabbat
DTSTART;TZID=America/New_York:20151204T173000
DTEND;TZID=America/New_York:20151204T173000
END:VEVENT
END:VCALENDAR
