BEGIN:VCALENDAR
PRODID:-//eluceo/ical//2.0/EN
VERSION:2.0
CALSCALE:GREGORIAN
BEGIN:VEVENT
UID:e9fcd4633480b50f36a809e81d54dfac
DTSTAMP:20260420T180648Z
SUMMARY:ZOA Speaker Event : Erick Stakelbeck
DESCRIPTION:Jewish Federation of Greater Naples\nCommunity Calendar\nhttps:
 //jewishnaples.org/calendar/calendar16616\n\nZOA Speaker Event : Erick Sta
 kelbeck
DTSTART;TZID=America/New_York:20151202T190000
DTEND;TZID=America/New_York:20151202T190000
END:VEVENT
END:VCALENDAR
