BEGIN:VCALENDAR
PRODID:-//eluceo/ical//2.0/EN
VERSION:2.0
CALSCALE:GREGORIAN
BEGIN:VEVENT
UID:9402844ef7378d4f079bb0daa0d4283e
DTSTAMP:20260423T173818Z
SUMMARY:CHA  Hebrew School
DESCRIPTION:Jewish Federation of Greater Naples\nCommunity Calendar\nhttps:
 //jewishnaples.org/calendar/calendar16613\n\nCHA  Hebrew School
DTSTART;TZID=America/New_York:20151202T163000
DTEND;TZID=America/New_York:20151202T163000
END:VEVENT
END:VCALENDAR
