BEGIN:VCALENDAR
PRODID:-//eluceo/ical//2.0/EN
VERSION:2.0
CALSCALE:GREGORIAN
BEGIN:VEVENT
UID:a52225b6b6d2c885be18170da9f40928
DTSTAMP:20260423T181136Z
SUMMARY:JCRC Meeting
DESCRIPTION:Jewish Federation of Greater Naples\nCommunity Calendar\nhttps:
 //jewishnaples.org/calendar/calendar16611\n\nJCRC Meeting
DTSTART;TZID=America/New_York:20151202T133000
DTEND;TZID=America/New_York:20151202T133000
END:VEVENT
END:VCALENDAR
