BEGIN:VCALENDAR
PRODID:-//eluceo/ical//2.0/EN
VERSION:2.0
CALSCALE:GREGORIAN
BEGIN:VEVENT
UID:141f57b31ec0f3237a2f47ff37eb8214
DTSTAMP:20260423T034929Z
SUMMARY:WCA - TS  Canasta
DESCRIPTION:Jewish Federation of Greater Naples\nCommunity Calendar\nhttps:
 //jewishnaples.org/calendar/calendar16610\n\nWCA - TS  Canasta
DTSTART;TZID=America/New_York:20151202T130000
DTEND;TZID=America/New_York:20151202T130000
END:VEVENT
END:VCALENDAR
