BEGIN:VCALENDAR
PRODID:-//eluceo/ical//2.0/EN
VERSION:2.0
CALSCALE:GREGORIAN
BEGIN:VEVENT
UID:5a21a6ed60faba0e8f856121e8a6ac50
DTSTAMP:20260423T211350Z
SUMMARY:Fed Star Editorial Deadline
DESCRIPTION:Jewish Federation of Greater Naples\nCommunity Calendar\nhttps:
 //jewishnaples.org/calendar/calendar16601\n\nFed Star Editorial Deadline
DTSTART;TZID=America/New_York:20151201T000000
DTEND;TZID=America/New_York:20151202T000000
END:VEVENT
END:VCALENDAR
