BEGIN:VCALENDAR
PRODID:-//eluceo/ical//2.0/EN
VERSION:2.0
CALSCALE:GREGORIAN
BEGIN:VEVENT
UID:5f5cb6dde6207e39652a5e5fb09763f3
DTSTAMP:20260423T112148Z
SUMMARY:BT Youth Education
DESCRIPTION:Jewish Federation of Greater Naples\nCommunity Calendar\nhttps:
 //jewishnaples.org/calendar/calendar166\n\n&nbsp
DTSTART;TZID=America/New_York:20140907T090000
DTEND;TZID=America/New_York:20140907T090000
END:VEVENT
END:VCALENDAR
