BEGIN:VCALENDAR
PRODID:-//eluceo/ical//2.0/EN
VERSION:2.0
CALSCALE:GREGORIAN
BEGIN:VEVENT
UID:a9739412ba8a0094973bc541d31ec328
DTSTAMP:20260422T172514Z
SUMMARY:BT Sunday Minyan
DESCRIPTION:Jewish Federation of Greater Naples\nCommunity Calendar\nhttps:
 //jewishnaples.org/calendar/calendar16598\n\nBT Sunday Minyan
DTSTART;TZID=America/New_York:20151129T090000
DTEND;TZID=America/New_York:20151129T090000
END:VEVENT
END:VCALENDAR
