BEGIN:VCALENDAR
PRODID:-//eluceo/ical//2.0/EN
VERSION:2.0
CALSCALE:GREGORIAN
BEGIN:VEVENT
UID:3b3dc9ddf43c6e78301f4f53798b519d
DTSTAMP:20260423T212018Z
SUMMARY:TS Services
DESCRIPTION:Jewish Federation of Greater Naples\nCommunity Calendar\nhttps:
 //jewishnaples.org/calendar/calendar16597\n\nTS Services
DTSTART;TZID=America/New_York:20151128T100000
DTEND;TZID=America/New_York:20151128T100000
END:VEVENT
END:VCALENDAR
