BEGIN:VCALENDAR
PRODID:-//eluceo/ical//2.0/EN
VERSION:2.0
CALSCALE:GREGORIAN
BEGIN:VEVENT
UID:b5b67fc171963bc3842d0cfdfc7c04bd
DTSTAMP:20260421T215954Z
SUMMARY:JCMI  Services
DESCRIPTION:Jewish Federation of Greater Naples\nCommunity Calendar\nhttps:
 //jewishnaples.org/calendar/calendar16594\n\nJCMI  Services
DTSTART;TZID=America/New_York:20151127T200000
DTEND;TZID=America/New_York:20151127T200000
END:VEVENT
END:VCALENDAR
