BEGIN:VCALENDAR
PRODID:-//eluceo/ical//2.0/EN
VERSION:2.0
CALSCALE:GREGORIAN
BEGIN:VEVENT
UID:0c00535913a6e63e9c6448cc57434404
DTSTAMP:20260424T145557Z
SUMMARY:BBYO  Youth Activity
DESCRIPTION:Jewish Federation of Greater Naples\nCommunity Calendar\nhttps:
 //jewishnaples.org/calendar/calendar16587\n\nBBYO  Youth Activity
DTSTART;TZID=America/New_York:20151126T180000
DTEND;TZID=America/New_York:20151126T180000
END:VEVENT
END:VCALENDAR
