BEGIN:VCALENDAR
PRODID:-//eluceo/ical//2.0/EN
VERSION:2.0
CALSCALE:GREGORIAN
BEGIN:VEVENT
UID:6ab6963d503212fbb8f55adbe326f9ff
DTSTAMP:20260422T053958Z
SUMMARY:CHA  Men's Club
DESCRIPTION:Jewish Federation of Greater Naples\nCommunity Calendar\nhttps:
 //jewishnaples.org/calendar/calendar16585\n\nCHA  Men's Club
DTSTART;TZID=America/New_York:20151126T113000
DTEND;TZID=America/New_York:20151126T113000
END:VEVENT
END:VCALENDAR
