BEGIN:VCALENDAR
PRODID:-//eluceo/ical//2.0/EN
VERSION:2.0
CALSCALE:GREGORIAN
BEGIN:VEVENT
UID:394b5e17c22d8c992fbd1639e3876185
DTSTAMP:20260423T101603Z
SUMMARY:TS  Offices Closed
DESCRIPTION:Jewish Federation of Greater Naples\nCommunity Calendar\nhttps:
 //jewishnaples.org/calendar/calendar16584\n\nTS  Offices Closed
DTSTART;TZID=America/New_York:20151126T090000
DTEND;TZID=America/New_York:20151126T093000
END:VEVENT
END:VCALENDAR
