BEGIN:VCALENDAR
PRODID:-//eluceo/ical//2.0/EN
VERSION:2.0
CALSCALE:GREGORIAN
BEGIN:VEVENT
UID:694edb2292decbeabf61f152cf3961ed
DTSTAMP:20260423T181246Z
SUMMARY:JCMI  Bridge
DESCRIPTION:Jewish Federation of Greater Naples\nCommunity Calendar\nhttps:
 //jewishnaples.org/calendar/calendar16578\n\nJCMI  Bridge
DTSTART;TZID=America/New_York:20151125T130000
DTEND;TZID=America/New_York:20151125T130000
END:VEVENT
END:VCALENDAR
