BEGIN:VCALENDAR
PRODID:-//eluceo/ical//2.0/EN
VERSION:2.0
CALSCALE:GREGORIAN
BEGIN:VEVENT
UID:8f80a0f03d4eeae337734b09a0353259
DTSTAMP:20260423T040535Z
SUMMARY:BT  Rabbi's Study Course
DESCRIPTION:Jewish Federation of Greater Naples\nCommunity Calendar\nhttps:
 //jewishnaples.org/calendar/calendar16575\n\nBT  Rabbi's Study Course
DTSTART;TZID=America/New_York:20151124T121500
DTEND;TZID=America/New_York:20151124T121500
END:VEVENT
END:VCALENDAR
