BEGIN:VCALENDAR
PRODID:-//eluceo/ical//2.0/EN
VERSION:2.0
CALSCALE:GREGORIAN
BEGIN:VEVENT
UID:e054109fbf7d92e4a3d6a111d3cd0a09
DTSTAMP:20260422T041217Z
SUMMARY:JCMI  Bingo
DESCRIPTION:Jewish Federation of Greater Naples\nCommunity Calendar\nhttps:
 //jewishnaples.org/calendar/calendar16573\n\nJCMI  Bingo
DTSTART;TZID=America/New_York:20151123T173000
DTEND;TZID=America/New_York:20151123T173000
END:VEVENT
END:VCALENDAR
