BEGIN:VCALENDAR
PRODID:-//eluceo/ical//2.0/EN
VERSION:2.0
CALSCALE:GREGORIAN
BEGIN:VEVENT
UID:be73e7b0afddc6e119830b5bc8f3dc83
DTSTAMP:20260423T204435Z
SUMMARY:NJC Adult Enrichment
DESCRIPTION:Jewish Federation of Greater Naples\nCommunity Calendar\nhttps:
 //jewishnaples.org/calendar/calendar16571\n\nNJC Adult Enrichment
DTSTART;TZID=America/New_York:20151122T103000
DTEND;TZID=America/New_York:20151122T103000
END:VEVENT
END:VCALENDAR
